BEGIN:VCALENDAR
VERSION:2.0
PRODID:-//Perfect Brewing Supply - ECPv6.15.20//NONSGML v1.0//EN
CALSCALE:GREGORIAN
METHOD:PUBLISH
X-WR-CALNAME:Perfect Brewing Supply
X-ORIGINAL-URL:https://www.perfectbrewsupply.com
X-WR-CALDESC:Events for Perfect Brewing Supply
REFRESH-INTERVAL;VALUE=DURATION:PT1H
X-Robots-Tag:noindex
X-PUBLISHED-TTL:PT1H
BEGIN:VTIMEZONE
TZID:America/Chicago
BEGIN:DAYLIGHT
TZOFFSETFROM:-0600
TZOFFSETTO:-0500
TZNAME:CDT
DTSTART:20180311T080000
END:DAYLIGHT
BEGIN:STANDARD
TZOFFSETFROM:-0500
TZOFFSETTO:-0600
TZNAME:CST
DTSTART:20181104T070000
END:STANDARD
BEGIN:DAYLIGHT
TZOFFSETFROM:-0600
TZOFFSETTO:-0500
TZNAME:CDT
DTSTART:20190310T080000
END:DAYLIGHT
BEGIN:STANDARD
TZOFFSETFROM:-0500
TZOFFSETTO:-0600
TZNAME:CST
DTSTART:20191103T070000
END:STANDARD
BEGIN:DAYLIGHT
TZOFFSETFROM:-0600
TZOFFSETTO:-0500
TZNAME:CDT
DTSTART:20200308T080000
END:DAYLIGHT
BEGIN:STANDARD
TZOFFSETFROM:-0500
TZOFFSETTO:-0600
TZNAME:CST
DTSTART:20201101T070000
END:STANDARD
END:VTIMEZONE
BEGIN:VEVENT
DTSTART;TZID=America/Chicago:20190720T130000
DTEND;TZID=America/Chicago:20190720T160000
DTSTAMP:20260424T212530
CREATED:20190625T222122Z
LAST-MODIFIED:20190625T230322Z
UID:3236-1563627600-1563638400@www.perfectbrewsupply.com
SUMMARY:2nd Annual Homebrew Festival at Only Child
DESCRIPTION:Come support your local homebrewers with our second annual homebrew fest hosted at Only Child Brewing and supporting great organization.  Stop by Perfect Brewing Supply to donate a non perishable food item and get $5.00 off your ticket. \nTo buy Tickets or learn more CLICK HERE \n$25 for 3 hours of unlimited samples of 60+ different brews! \n$15 for Designated Drivers\, with unlimited non-alcoholic beverages. \nYou’ll get commemorative glassware\, and the proceeds will benefit Northern Illinois Food Bank. \nThe crowd votes for their favorite beers\, which are then reviewed by a professional judging panel!
URL:https://www.perfectbrewsupply.com/event/3236/
LOCATION:Only Child Brewery\, 1350 Tri State Pkwy\, Gurnee\, IL\, 60031
CATEGORIES:Beer,Brew U,Club Meetings,Craftbeer Festival
ATTACH;FMTTYPE=image/jpeg:https://www.perfectbrewsupply.com/wp-content/uploads/2019/06/61456229_1591807770951962_3464412000677789696_n.jpg
END:VEVENT
BEGIN:VEVENT
DTSTART;TZID=America/Chicago:20190519T130000
DTEND;TZID=America/Chicago:20190519T160000
DTSTAMP:20260424T212530
CREATED:20190502T181611Z
LAST-MODIFIED:20190502T181611Z
UID:3186-1558270800-1558281600@www.perfectbrewsupply.com
SUMMARY:Homebrew Fest Registration Party with Only Child
DESCRIPTION:Join us Sunday May 19th at Perfect Brewing Supply from 1-4pm to register for our second annual homebrew fest. \nWinner of the homebrew fest this year (taking place on July 20th) will be brewing their beer on a Blichmann pilot system at Only Child Brewing\, have some of that beer packaged for them to take home\, AND have that beer tapped at Only Child\, with proceeds being donated to Northern Illinois Food Bank. \nThe fest itself will also be benefiting the Northern Illinois Food Bank this year! \nSHOW UP ON THE 19TH IF YOU’RE READY TO SIGN UP! Brewer spots will be very limited\, and signing up in person on the 19th will guarantee your place to pour your homebrew at the fest. Remaining brewer spots will be available online AFTER the 19th. \nDetails of registration party: Free to attend \n– $15 donation to reserve your spot to pour at the fest itself (includes glassware\, and a plus one ticket to bring a friend) \n– Discounts available on supplies purchased that day from Perfect Brewing Supply if registering \n– Free samples from Only Child Brewing \n– Food on site available for purchase \n– General admission tickets available for a discounted $20 \nTo RSVP on Facebook CLICK HERE
URL:https://www.perfectbrewsupply.com/event/homebrew-fest-registration-party-with-only-child/
LOCATION:Perfect Brewing Supply\, 619 East Park Ave\, Libertyville\, IL\, 60048\, United States
CATEGORIES:Beer,Club Meetings,Craftbeer Festival
ATTACH;FMTTYPE=image/jpeg:https://www.perfectbrewsupply.com/wp-content/uploads/2019/05/58606414_1567369233395816_5725680606637981696_o.jpg
END:VEVENT
BEGIN:VEVENT
DTSTART;VALUE=DATE:20190504
DTEND;VALUE=DATE:20190505
DTSTAMP:20260424T212530
CREATED:20190314T212958Z
LAST-MODIFIED:20190314T212958Z
UID:3168-1556928000-1557014399@www.perfectbrewsupply.com
SUMMARY:BIG BREW
DESCRIPTION:May The 4th be with you on this Big Brew Day!
URL:https://www.perfectbrewsupply.com/event/big-brew/
LOCATION:Perfect Brewing Supply\, 619 East Park Ave\, Libertyville\, IL\, 60048\, United States
CATEGORIES:Beer,Brew U,Club Meetings,Craftbeer Festival
END:VEVENT
BEGIN:VEVENT
DTSTART;TZID=America/Chicago:20190112T090000
DTEND;TZID=America/Chicago:20190112T140000
DTSTAMP:20260424T212530
CREATED:20170720T213220Z
LAST-MODIFIED:20181130T182548Z
UID:2736-1547283600-1547301600@www.perfectbrewsupply.com
SUMMARY:All Grain Brewing
DESCRIPTION:Looking for complete creative control over your beer\, then All Grain Brewing is the answer.   Join us and learn all about the All Grain process and how it is different than brewing with Extracts or Brewing In A Bag.  This technique of brewing allows you to  learn about mash temperature\, sparging\, and to dive deeper into ingredients and writing your own recipe. If you are ready to take your brewing to the another level then this is the class for you.  The class costs $30 and goes from 9 AM to 2 PM. \nTo Register for the class Click Here
URL:https://www.perfectbrewsupply.com/event/grain-brewing/
LOCATION:Perfect Brewing Supply\, 619 East Park Ave\, Libertyville\, IL\, 60048\, United States
CATEGORIES:Beer,Brew U
ATTACH;FMTTYPE=image/jpeg:https://www.perfectbrewsupply.com/wp-content/uploads/2017/07/IMG_2787.jpg
ORGANIZER;CN="Perfect Brewing Supply":MAILTO:info@perfectbrewsupply.com
END:VEVENT
END:VCALENDAR